BEGIN:VCALENDAR
VERSION:2.0
PRODID:-//Loksa Gümnaasium - ECPv6.15.20//NONSGML v1.0//EN
CALSCALE:GREGORIAN
METHOD:PUBLISH
X-WR-CALNAME:Loksa Gümnaasium
X-ORIGINAL-URL:https://loksakool.ee
X-WR-CALDESC:Events for Loksa Gümnaasium
REFRESH-INTERVAL;VALUE=DURATION:PT1H
X-Robots-Tag:noindex
X-PUBLISHED-TTL:PT1H
BEGIN:VTIMEZONE
TZID:Europe/Tallinn
BEGIN:DAYLIGHT
TZOFFSETFROM:+0200
TZOFFSETTO:+0300
TZNAME:EEST
DTSTART:20250330T010000
END:DAYLIGHT
BEGIN:STANDARD
TZOFFSETFROM:+0300
TZOFFSETTO:+0200
TZNAME:EET
DTSTART:20251026T010000
END:STANDARD
BEGIN:DAYLIGHT
TZOFFSETFROM:+0200
TZOFFSETTO:+0300
TZNAME:EEST
DTSTART:20260329T010000
END:DAYLIGHT
BEGIN:STANDARD
TZOFFSETFROM:+0300
TZOFFSETTO:+0200
TZNAME:EET
DTSTART:20261025T010000
END:STANDARD
BEGIN:DAYLIGHT
TZOFFSETFROM:+0200
TZOFFSETTO:+0300
TZNAME:EEST
DTSTART:20270328T010000
END:DAYLIGHT
BEGIN:STANDARD
TZOFFSETFROM:+0300
TZOFFSETTO:+0200
TZNAME:EET
DTSTART:20271031T010000
END:STANDARD
END:VTIMEZONE
BEGIN:VEVENT
DTSTART;TZID=Europe/Tallinn:20260330T130000
DTEND;TZID=Europe/Tallinn:20260330T140000
DTSTAMP:20260424T174149
CREATED:20260309T074228Z
LAST-MODIFIED:20260309T074228Z
UID:4785-1774875600-1774879200@loksakool.ee
SUMMARY:Tuuleveski teater
DESCRIPTION:Tuuleveski teater etendusega “Pöial-Liisi” algklassidele. \nPilet 6€
URL:https://loksakool.ee/sundmus/tuuleveski-teater/
END:VEVENT
END:VCALENDAR