BEGIN:VCALENDAR
VERSION:2.0
PRODID:-//Loksa Gümnaasium - ECPv6.15.20//NONSGML v1.0//EN
CALSCALE:GREGORIAN
METHOD:PUBLISH
X-WR-CALNAME:Loksa Gümnaasium
X-ORIGINAL-URL:https://loksakool.ee
X-WR-CALDESC:Events for Loksa Gümnaasium
REFRESH-INTERVAL;VALUE=DURATION:PT1H
X-Robots-Tag:noindex
X-PUBLISHED-TTL:PT1H
BEGIN:VTIMEZONE
TZID:Europe/Tallinn
BEGIN:DAYLIGHT
TZOFFSETFROM:+0200
TZOFFSETTO:+0300
TZNAME:EEST
DTSTART:20250330T010000
END:DAYLIGHT
BEGIN:STANDARD
TZOFFSETFROM:+0300
TZOFFSETTO:+0200
TZNAME:EET
DTSTART:20251026T010000
END:STANDARD
BEGIN:DAYLIGHT
TZOFFSETFROM:+0200
TZOFFSETTO:+0300
TZNAME:EEST
DTSTART:20260329T010000
END:DAYLIGHT
BEGIN:STANDARD
TZOFFSETFROM:+0300
TZOFFSETTO:+0200
TZNAME:EET
DTSTART:20261025T010000
END:STANDARD
BEGIN:DAYLIGHT
TZOFFSETFROM:+0200
TZOFFSETTO:+0300
TZNAME:EEST
DTSTART:20270328T010000
END:DAYLIGHT
BEGIN:STANDARD
TZOFFSETFROM:+0300
TZOFFSETTO:+0200
TZNAME:EET
DTSTART:20271031T010000
END:STANDARD
END:VTIMEZONE
BEGIN:VEVENT
DTSTART;TZID=Europe/Tallinn:20260414T100000
DTEND;TZID=Europe/Tallinn:20260414T160000
DTSTAMP:20260424T174026
CREATED:20260401T055858Z
LAST-MODIFIED:20260401T055858Z
UID:5011-1776160800-1776182400@loksakool.ee
SUMMARY:Eesti keel teise keelena (kirjalik eksam)
DESCRIPTION:14. aprill 2026 Maardu Gümnaasiumis
URL:https://loksakool.ee/sundmus/eesti-keel-teise-keelena-kirjalik-eksam/
END:VEVENT
BEGIN:VEVENT
DTSTART;TZID=Europe/Tallinn:20260414T100000
DTEND;TZID=Europe/Tallinn:20260414T160000
DTSTAMP:20260424T174026
CREATED:20260401T060014Z
LAST-MODIFIED:20260401T060014Z
UID:5014-1776160800-1776182400@loksakool.ee
SUMMARY:Eesti keel teise keelena (suuline eksam)
DESCRIPTION:14. aprill 2026 Maardu Gümnaasiumis
URL:https://loksakool.ee/sundmus/eesti-keel-teise-keelena-suuline-eksam/
END:VEVENT
END:VCALENDAR