BEGIN:VCALENDAR
VERSION:2.0
PRODID:-//Loksa Gümnaasium - ECPv6.15.20//NONSGML v1.0//EN
CALSCALE:GREGORIAN
METHOD:PUBLISH
X-WR-CALNAME:Loksa Gümnaasium
X-ORIGINAL-URL:https://loksakool.ee
X-WR-CALDESC:Events for Loksa Gümnaasium
REFRESH-INTERVAL;VALUE=DURATION:PT1H
X-Robots-Tag:noindex
X-PUBLISHED-TTL:PT1H
BEGIN:VTIMEZONE
TZID:Europe/Tallinn
BEGIN:DAYLIGHT
TZOFFSETFROM:+0200
TZOFFSETTO:+0300
TZNAME:EEST
DTSTART:20250330T010000
END:DAYLIGHT
BEGIN:STANDARD
TZOFFSETFROM:+0300
TZOFFSETTO:+0200
TZNAME:EET
DTSTART:20251026T010000
END:STANDARD
BEGIN:DAYLIGHT
TZOFFSETFROM:+0200
TZOFFSETTO:+0300
TZNAME:EEST
DTSTART:20260329T010000
END:DAYLIGHT
BEGIN:STANDARD
TZOFFSETFROM:+0300
TZOFFSETTO:+0200
TZNAME:EET
DTSTART:20261025T010000
END:STANDARD
BEGIN:DAYLIGHT
TZOFFSETFROM:+0200
TZOFFSETTO:+0300
TZNAME:EEST
DTSTART:20270328T010000
END:DAYLIGHT
BEGIN:STANDARD
TZOFFSETFROM:+0300
TZOFFSETTO:+0200
TZNAME:EET
DTSTART:20271031T010000
END:STANDARD
END:VTIMEZONE
BEGIN:VEVENT
DTSTART;TZID=Europe/Tallinn:20260415T090000
DTEND;TZID=Europe/Tallinn:20260415T103000
DTSTAMP:20260424T174736
CREATED:20260309T074413Z
LAST-MODIFIED:20260309T074413Z
UID:4791-1776243600-1776249000@loksakool.ee
SUMMARY:Kriisiõppus
DESCRIPTION:Kriisiõppus töötajatele.
URL:https://loksakool.ee/sundmus/kriisioppus/
END:VEVENT
BEGIN:VEVENT
DTSTART;TZID=Europe/Tallinn:20260415T120000
DTEND;TZID=Europe/Tallinn:20260415T160000
DTSTAMP:20260424T174736
CREATED:20260309T074340Z
LAST-MODIFIED:20260309T074340Z
UID:4788-1776254400-1776268800@loksakool.ee
SUMMARY:TI-Hüppe eestvedajate seminar.
DESCRIPTION:TI-Hüppe eestvedajate seminar\, algklasside maja saalis.
URL:https://loksakool.ee/sundmus/ti-huppe-eestvedajate-seminar/
END:VEVENT
END:VCALENDAR