BEGIN:VCALENDAR
VERSION:2.0
PRODID:-//Loksa Gümnaasium - ECPv6.15.20//NONSGML v1.0//EN
CALSCALE:GREGORIAN
METHOD:PUBLISH
X-WR-CALNAME:Loksa Gümnaasium
X-ORIGINAL-URL:https://loksakool.ee
X-WR-CALDESC:Events for Loksa Gümnaasium
REFRESH-INTERVAL;VALUE=DURATION:PT1H
X-Robots-Tag:noindex
X-PUBLISHED-TTL:PT1H
BEGIN:VTIMEZONE
TZID:Europe/Tallinn
BEGIN:DAYLIGHT
TZOFFSETFROM:+0200
TZOFFSETTO:+0300
TZNAME:EEST
DTSTART:20250330T010000
END:DAYLIGHT
BEGIN:STANDARD
TZOFFSETFROM:+0300
TZOFFSETTO:+0200
TZNAME:EET
DTSTART:20251026T010000
END:STANDARD
BEGIN:DAYLIGHT
TZOFFSETFROM:+0200
TZOFFSETTO:+0300
TZNAME:EEST
DTSTART:20260329T010000
END:DAYLIGHT
BEGIN:STANDARD
TZOFFSETFROM:+0300
TZOFFSETTO:+0200
TZNAME:EET
DTSTART:20261025T010000
END:STANDARD
BEGIN:DAYLIGHT
TZOFFSETFROM:+0200
TZOFFSETTO:+0300
TZNAME:EEST
DTSTART:20270328T010000
END:DAYLIGHT
BEGIN:STANDARD
TZOFFSETFROM:+0300
TZOFFSETTO:+0200
TZNAME:EET
DTSTART:20271031T010000
END:STANDARD
END:VTIMEZONE
BEGIN:VEVENT
DTSTART;TZID=Europe/Tallinn:20260427T100000
DTEND;TZID=Europe/Tallinn:20260427T160000
DTSTAMP:20260424T120407
CREATED:20260401T060046Z
LAST-MODIFIED:20260401T060046Z
UID:5017-1777284000-1777305600@loksakool.ee
SUMMARY:Inglise keel võõrkeelena B1/B2-tasemel (kirjalik eksam)
DESCRIPTION:27. aprill 2026
URL:https://loksakool.ee/sundmus/inglise-keel-voorkeelena-b1-b2-tasemel-kirjalik-eksam/
END:VEVENT
BEGIN:VEVENT
DTSTART;TZID=Europe/Tallinn:20260428T100000
DTEND;TZID=Europe/Tallinn:20260428T160000
DTSTAMP:20260424T120407
CREATED:20260401T060116Z
LAST-MODIFIED:20260401T060116Z
UID:5021-1777370400-1777392000@loksakool.ee
SUMMARY:Inglise keel võõrkeelena B1/B2-tasemel (suuline eksam)
DESCRIPTION:28. aprill 2026 Kuuslau Keskkoolis
URL:https://loksakool.ee/sundmus/inglise-keel-voorkeelena-b1-b2-tasemel-suuline-eksam/
END:VEVENT
BEGIN:VEVENT
DTSTART;TZID=Europe/Tallinn:20260429T100000
DTEND;TZID=Europe/Tallinn:20260429T160000
DTSTAMP:20260424T120407
CREATED:20260401T060520Z
LAST-MODIFIED:20260401T060520Z
UID:5041-1777456800-1777478400@loksakool.ee
SUMMARY:Põhikool Matemaatika eksam
DESCRIPTION:Matemaatika – 29. aprill 2026
URL:https://loksakool.ee/sundmus/pohikool-matemaatika-eksam/
END:VEVENT
BEGIN:VEVENT
DTSTART;TZID=Europe/Tallinn:20260430T060000
DTEND;TZID=Europe/Tallinn:20260501T055959
DTSTAMP:20260424T120407
CREATED:20260414T163414Z
LAST-MODIFIED:20260414T163414Z
UID:5269-1777528800-1777615199@loksakool.ee
SUMMARY:Iseõppepäev 30.04
DESCRIPTION:Seoses õpetajate koolitusega on 30.04 Loksa kooli õpilastele iseõppepäev.
URL:https://loksakool.ee/sundmus/iseoppepaev-30-04/
END:VEVENT
END:VCALENDAR